BEGIN:VCALENDAR
VERSION:2.0
PRODID:-//hacksw/handcal//NONSGML v1.0//EN
CALSCALE:GREGORIAN
BEGIN:VEVENT
DTSTART:20260916T170000
DTEND:20260916T180000
SUMMARY:SAVE THE DATE: Hypophosphatasia : diagnostic and therapeutic approach
LOCATION:
DTSTAMP:20260424T084655
UID:69eb2dfface32
END:VEVENT
END:VCALENDAR