BEGIN:VCALENDAR
VERSION:2.0
PRODID:-//hacksw/handcal//NONSGML v1.0//EN
CALSCALE:GREGORIAN
BEGIN:VEVENT
DTSTART:20260610T163000
DTEND:20260610T173000
SUMMARY:REGISTER: Endo-ERN X Endocrine Connections Genetic Testing Approaches as the Basis for Personalized Medicine
LOCATION:
DTSTAMP:20260420T084620
UID:69e5e7dca4db1
END:VEVENT
END:VCALENDAR