BEGIN:VCALENDAR
VERSION:2.0
PRODID:-//hacksw/handcal//NONSGML v1.0//EN
CALSCALE:GREGORIAN
BEGIN:VEVENT
DTSTART:20260602T170000
DTEND:20260602T183000
SUMMARY:SAVE THE DATE: ESE talks webinar…Primary Ovarian Insufficiency
LOCATION:
DTSTAMP:20260420T103307
UID:69e600e3d3bc1
END:VEVENT
END:VCALENDAR