BEGIN:VCALENDAR
VERSION:2.0
PRODID:-//hacksw/handcal//NONSGML v1.0//EN
CALSCALE:GREGORIAN
BEGIN:VEVENT
DTSTART:20260603
DTEND:20260604
SUMMARY:SAVE THE DATE: 13th European Conference on Rare Diseases & Orphan Products (ECRD 2026)
LOCATION:Prague\, Czechia 
DTSTAMP:20260420T102837
UID:69e5ffd5a2f61
END:VEVENT
END:VCALENDAR