BEGIN:VCALENDAR
VERSION:2.0
PRODID:-//hacksw/handcal//NONSGML v1.0//EN
CALSCALE:GREGORIAN
BEGIN:VEVENT
DTSTART:20260420
DTEND:20260421
SUMMARY:SAVE THE DATE: Endo-ERN General Assembly (GA)
LOCATION:Athens\, Greece 
DTSTAMP:20260420T084614
UID:69e5e7d67b2d3
END:VEVENT
END:VCALENDAR