BEGIN:VCALENDAR
VERSION:2.0
PRODID:-//hacksw/handcal//NONSGML v1.0//EN
CALSCALE:GREGORIAN
BEGIN:VEVENT
DTSTART:20260509
DTEND:20260512
SUMMARY:SYMPOSIUM ADDED: European Congress of Endocrinology (ECE) 2026
LOCATION:Prague\, Czechia 
DTSTAMP:20260420T102542
UID:69e5ff2694767
END:VEVENT
END:VCALENDAR